BEGIN:VCALENDAR
VERSION:2.0
PRODID:-//Tukios.com/
BEGIN:VEVENT
UID:4809f989-7ee0-435a-8c07-2f08409bf431@www.bellememorialfuneralhomes.com
DTSTAMP:20260421T001341Z
DTSTART:20260425
SUMMARY:Burial
DESCRIPTION:
URL:https://www.bellememorialfuneralhomes.com/obituaries/larry-barr
LOCATION:Baptist Grove Missionary Baptist Church Cemetery 10025 Baptist 
	Grove Road  Prairie MS 39756
GEO:33.7710567;-88.6854746
END:VEVENT
END:VCALENDAR