BEGIN:VCALENDAR
VERSION:2.0
PRODID:-//Tukios.com/
BEGIN:VEVENT
UID:90c8c389-7010-486d-b9af-c473d440fdf7@www.bellememorialfuneralhomes.com
DTSTAMP:20260421T000913Z
DTSTART:20260425T190000Z
DTEND:20260425T200000Z
SUMMARY:Celebration of Life
DESCRIPTION:
URL:https://www.bellememorialfuneralhomes.com/obituaries/larry-barr
LOCATION:Zion Springs Missionary Baptist Church 295 County Road 182  
	Okolona MS 38860
GEO:33.8539211;-88.7492385
END:VEVENT
END:VCALENDAR