BEGIN:VCALENDAR
VERSION:2.0
PRODID:-//Tukios.com/
BEGIN:VEVENT
UID:699b1446-4ed5-45cb-85fa-f70f91d18442@www.bellememorialfuneralhomes.com
DTSTAMP:20260421T001618Z
DTSTART:20260424T220000Z
DTEND:20260424T230000Z
SUMMARY:Visitation (PUBLIC)
DESCRIPTION:
URL:https://www.bellememorialfuneralhomes.com/obituaries/larry-barr
LOCATION: 216 Hwy 25 South, PO Box 129  Aberdeen MS 39730
GEO:33.815247;-88.5456481
END:VEVENT
END:VCALENDAR