BEGIN:VCALENDAR
VERSION:2.0
PRODID:-//Tukios.com/
BEGIN:VEVENT
UID:cd9603c4-9017-4438-8922-2c35df23eb3c@www.bellememorialfuneralhomes.com
DTSTAMP:20260421T000842Z
DTSTART:20260424T210000Z
DTEND:20260424T220000Z
SUMMARY:Visitation (Family)
DESCRIPTION:
URL:https://www.bellememorialfuneralhomes.com/obituaries/larry-barr
LOCATION: 216 Hwy 25 South, PO Box 129  Aberdeen MS 39730
GEO:33.815247;-88.5456481
END:VEVENT
END:VCALENDAR